BEGIN:VCALENDAR
VERSION:2.0
PRODID:-//ChamberMaster//Event Calendar 2.0//EN
METHOD:PUBLISH
X-PUBLISHED-TTL:P3D
REFRESH-INTERVAL:P3D
CALSCALE:GREGORIAN
BEGIN:VEVENT
DTSTART:20220103T170000Z
DTEND:20220103T190000Z
X-MICROSOFT-CDO-ALLDAYEVENT:FALSE
SUMMARY:Sign Ordinance Committee Meeting
DESCRIPTION:Join us to examine and discuss the proposed revisions to the City Sign Ordinance. The purpose of the committee is to put together cohesive information for the City Commission to consider before they vote on the ordinance.\n\n \n\nThis committee is not in opposition to revising the ordinance or to cleaning up Clovis. However\, the ordinance revisions\, as currently written\, pose many unanswered questions. Of concern is the potential\, and unintended\, financial impact the proposed ordinance could have on land lease holders who depend on income from the leases\, existing business\, property owners\, the ability to attract new business\, financial institutions\, employment\, and even revenue for the city.\n\n\n\nThe Commission is scheduled to meet and vote on Thursday\, January 6\, 2022. Since time is of the essence\, we are proposing a meeting to gather information and concerns to provide to the Commission.
X-ALT-DESC;FMTTYPE=text/html:Join us to examine and discuss the proposed revisions to the City Sign Ordinance. The purpose of the committee is to put together cohesive information for the City Commission to consider before they vote on the ordinance.<br />\n&nbsp\;<br />\nThis committee is not in opposition to revising the ordinance or to cleaning up Clovis. However\, the ordinance revisions\, as currently written\, pose many unanswered questions. Of concern is the potential\, and unintended\, financial impact the proposed ordinance could have on land lease holders who depend on income from the leases\, existing business\, property owners\, the ability to attract new business\, financial institutions\, employment\, and even revenue for the city.<br />\n<br />\nThe Commission is scheduled to meet and vote on Thursday\, January 6\, 2022. Since time is of the essence\, we are proposing a meeting to gather information and concerns to provide to the Commission.
LOCATION:Attend in person or via Zoom. Chamber office (105 E Grand Ave) Zoom information will be received upon registration.
UID:e.2368.3557
SEQUENCE:3
DTSTAMP:20260421T153934Z
URL:https://business.clovisnm.org/events/details/sign-ordinance-committee-meeting-3557
END:VEVENT

END:VCALENDAR
